BEGIN:VCALENDAR
VERSION:2.0
PRODID:-//ZŠ Generála Svobody Havířov - ECPv6.15.20//NONSGML v1.0//EN
CALSCALE:GREGORIAN
METHOD:PUBLISH
X-ORIGINAL-URL:https://zssvobody.cz
X-WR-CALDESC:Akce na ZŠ Generála Svobody Havířov
REFRESH-INTERVAL;VALUE=DURATION:PT1H
X-Robots-Tag:noindex
X-PUBLISHED-TTL:PT1H
BEGIN:VTIMEZONE
TZID:Europe/Prague
BEGIN:DAYLIGHT
TZOFFSETFROM:+0100
TZOFFSETTO:+0200
TZNAME:CEST
DTSTART:20250330T010000
END:DAYLIGHT
BEGIN:STANDARD
TZOFFSETFROM:+0200
TZOFFSETTO:+0100
TZNAME:CET
DTSTART:20251026T010000
END:STANDARD
BEGIN:DAYLIGHT
TZOFFSETFROM:+0100
TZOFFSETTO:+0200
TZNAME:CEST
DTSTART:20260329T010000
END:DAYLIGHT
BEGIN:STANDARD
TZOFFSETFROM:+0200
TZOFFSETTO:+0100
TZNAME:CET
DTSTART:20261025T010000
END:STANDARD
BEGIN:DAYLIGHT
TZOFFSETFROM:+0100
TZOFFSETTO:+0200
TZNAME:CEST
DTSTART:20270328T010000
END:DAYLIGHT
BEGIN:STANDARD
TZOFFSETFROM:+0200
TZOFFSETTO:+0100
TZNAME:CET
DTSTART:20271031T010000
END:STANDARD
END:VTIMEZONE
BEGIN:VEVENT
DTSTART;VALUE=DATE:20260424
DTEND;VALUE=DATE:20260425
DTSTAMP:20260424T142921
CREATED:20260416T121016Z
LAST-MODIFIED:20260416T121016Z
UID:7665-1776988800-1777075199@zssvobody.cz
SUMMARY:MK ve vybíjené
DESCRIPTION:7:45-13:30 hod – HLZŠ MK ve vybíjené\, ZŠ Na Nábřeží\, vybrané žákyně 8.\, 9.roč.
URL:https://zssvobody.cz/event/mk-ve-vybijene-2/
END:VEVENT
BEGIN:VEVENT
DTSTART;VALUE=DATE:20260424
DTEND;VALUE=DATE:20260425
DTSTAMP:20260424T142921
CREATED:20260416T121055Z
LAST-MODIFIED:20260416T121055Z
UID:7667-1776988800-1777075199@zssvobody.cz
SUMMARY:KK v soutěži "Soutěž v programování"
DESCRIPTION:8:00-13:00 hod – KK v soutěži „Soutěž v programování“\, VŠB Ostrava\, vybraný žák 9.r.
URL:https://zssvobody.cz/event/kk-v-soutezi-soutez-v-programovani/
END:VEVENT
BEGIN:VEVENT
DTSTART;VALUE=DATE:20260427
DTEND;VALUE=DATE:20260428
DTSTAMP:20260424T142921
CREATED:20260424T073115Z
LAST-MODIFIED:20260424T073115Z
UID:7671-1777248000-1777334399@zssvobody.cz
SUMMARY:Matematická soutěž ŠMouLa
DESCRIPTION:8:55 – 11:50 hod – Matematická soutěž ŠMouLa\, uč. INDOŠ\, vybraní žáci 2. st.
URL:https://zssvobody.cz/event/matematicka-soutez-smoula/
END:VEVENT
BEGIN:VEVENT
DTSTART;VALUE=DATE:20260428
DTEND;VALUE=DATE:20260429
DTSTAMP:20260424T142921
CREATED:20260424T073203Z
LAST-MODIFIED:20260424T073203Z
UID:7673-1777334400-1777420799@zssvobody.cz
SUMMARY:HLZŠ MK Poháru rozhlasu
DESCRIPTION:7:50 – 13:30 hod – HLZŠ MK Poháru rozhlasu\, hřiště u ZŠ M. Kudeříkové\, vybraní žáci 6.\, 7. roč.
URL:https://zssvobody.cz/event/hlzs-mk-poharu-rozhlasu/
END:VEVENT
BEGIN:VEVENT
DTSTART;VALUE=DATE:20260428
DTEND;VALUE=DATE:20260429
DTSTAMP:20260424T142921
CREATED:20260424T073253Z
LAST-MODIFIED:20260424T073253Z
UID:7675-1777334400-1777420799@zssvobody.cz
SUMMARY:Plavání
DESCRIPTION:8:00 – 8:45 hod – Výuka plavání\, krytý bazén Havířov-Šumbark\, tř. III. B\, III. C \n10:45 – 11:30 hod – Výuka plavání\, krytý bazén Havířov-Šumbark\, tř. II. A\, II. B
URL:https://zssvobody.cz/event/plavani-20/
END:VEVENT
BEGIN:VEVENT
DTSTART;VALUE=DATE:20260428
DTEND;VALUE=DATE:20260429
DTSTAMP:20260424T142921
CREATED:20260424T073338Z
LAST-MODIFIED:20260424T073338Z
UID:7677-1777334400-1777420799@zssvobody.cz
SUMMARY:Itálie - schůzka pro ZZ
DESCRIPTION:16:00 hod – Schůzka se zákonnými zástupci k exkurzi do Itálie
URL:https://zssvobody.cz/event/italie-schuzka-pro-zz/
END:VEVENT
BEGIN:VEVENT
DTSTART;VALUE=DATE:20260430
DTEND;VALUE=DATE:20260501
DTSTAMP:20260424T142921
CREATED:20260424T073432Z
LAST-MODIFIED:20260424T073432Z
UID:7679-1777507200-1777593599@zssvobody.cz
SUMMARY:Generálka poznává Itálii - projektový den
DESCRIPTION:
URL:https://zssvobody.cz/event/generalka-poznava-italii-projektovy-den/
END:VEVENT
BEGIN:VEVENT
DTSTART;VALUE=DATE:20260430
DTEND;VALUE=DATE:20260501
DTSTAMP:20260424T142921
CREATED:20260424T073513Z
LAST-MODIFIED:20260424T073513Z
UID:7681-1777507200-1777593599@zssvobody.cz
SUMMARY:Sport do škol
DESCRIPTION:8:55 hod – Projekt MMH „Sport do škol“\, taekwondo\, p. Neoral\, Bošanský\,\, tř. I. C \n10:00 hod – Projekt MMH „Sport do škol“\, taekwondo\, p. Neoral\, Bošanský\,\, tř. I. B \n10:55 hod – Projekt MMH „Sport do škol“\, taekwondo\, p. Neoral\, Bošanský\,\, tř. I. A
URL:https://zssvobody.cz/event/sport-do-skol-20/
END:VEVENT
BEGIN:VEVENT
DTSTART;VALUE=DATE:20260430
DTEND;VALUE=DATE:20260501
DTSTAMP:20260424T142921
CREATED:20260424T073547Z
LAST-MODIFIED:20260424T073547Z
UID:7683-1777507200-1777593599@zssvobody.cz
SUMMARY:Plavání
DESCRIPTION:10:50 – 12:15 hod – Výuka plavání\, krytý bazén Havířov-Šumbark\, tř. III. A
URL:https://zssvobody.cz/event/plavani-21/
END:VEVENT
END:VCALENDAR