BEGIN:VCALENDAR
VERSION:2.0
PRODID:-//ZŠ Generála Svobody Havířov - ECPv6.15.20//NONSGML v1.0//EN
CALSCALE:GREGORIAN
METHOD:PUBLISH
X-ORIGINAL-URL:https://zssvobody.cz
X-WR-CALDESC:Akce na ZŠ Generála Svobody Havířov
REFRESH-INTERVAL;VALUE=DURATION:PT1H
X-Robots-Tag:noindex
X-PUBLISHED-TTL:PT1H
BEGIN:VTIMEZONE
TZID:Europe/Prague
BEGIN:DAYLIGHT
TZOFFSETFROM:+0100
TZOFFSETTO:+0200
TZNAME:CEST
DTSTART:20250330T010000
END:DAYLIGHT
BEGIN:STANDARD
TZOFFSETFROM:+0200
TZOFFSETTO:+0100
TZNAME:CET
DTSTART:20251026T010000
END:STANDARD
BEGIN:DAYLIGHT
TZOFFSETFROM:+0100
TZOFFSETTO:+0200
TZNAME:CEST
DTSTART:20260329T010000
END:DAYLIGHT
BEGIN:STANDARD
TZOFFSETFROM:+0200
TZOFFSETTO:+0100
TZNAME:CET
DTSTART:20261025T010000
END:STANDARD
BEGIN:DAYLIGHT
TZOFFSETFROM:+0100
TZOFFSETTO:+0200
TZNAME:CEST
DTSTART:20270328T010000
END:DAYLIGHT
BEGIN:STANDARD
TZOFFSETFROM:+0200
TZOFFSETTO:+0100
TZNAME:CET
DTSTART:20271031T010000
END:STANDARD
END:VTIMEZONE
BEGIN:VEVENT
DTSTART;VALUE=DATE:20260422
DTEND;VALUE=DATE:20260423
DTSTAMP:20260424T155601
CREATED:20260416T120354Z
LAST-MODIFIED:20260416T120354Z
UID:7653-1776816000-1776902399@zssvobody.cz
SUMMARY:Osvětim - exkurze
DESCRIPTION:6:40-13:45 hod – Exkurze do Osvětimi\, žáci 9. roč.\, zbývající žáci – výuka v 8. roč.
URL:https://zssvobody.cz/event/osvetim-exkurze/
END:VEVENT
BEGIN:VEVENT
DTSTART;VALUE=DATE:20260422
DTEND;VALUE=DATE:20260423
DTSTAMP:20260424T155601
CREATED:20260416T120514Z
LAST-MODIFIED:20260416T120514Z
UID:7655-1776816000-1776902399@zssvobody.cz
SUMMARY:Dopravní soutěž "O pohár skřítka Dopraváka"
DESCRIPTION:8:00-13:00 hod – Dopravní soutěž „O pohár skřítka Dopraváka“\, ZŠ Moravská Havířov\, vybraní žáci 1.\, 2. st.
URL:https://zssvobody.cz/event/dopravni-soutez-o-pohar-skritka-dopravaka/
END:VEVENT
END:VCALENDAR