BEGIN:VCALENDAR
VERSION:2.0
PRODID:-//ZŠ Generála Svobody Havířov - ECPv6.15.20//NONSGML v1.0//EN
CALSCALE:GREGORIAN
METHOD:PUBLISH
X-WR-CALNAME:ZŠ Generála Svobody Havířov
X-ORIGINAL-URL:https://zssvobody.cz
X-WR-CALDESC:Akce na ZŠ Generála Svobody Havířov
REFRESH-INTERVAL;VALUE=DURATION:PT1H
X-Robots-Tag:noindex
X-PUBLISHED-TTL:PT1H
BEGIN:VTIMEZONE
TZID:Europe/Prague
BEGIN:DAYLIGHT
TZOFFSETFROM:+0100
TZOFFSETTO:+0200
TZNAME:CEST
DTSTART:20250330T010000
END:DAYLIGHT
BEGIN:STANDARD
TZOFFSETFROM:+0200
TZOFFSETTO:+0100
TZNAME:CET
DTSTART:20251026T010000
END:STANDARD
BEGIN:DAYLIGHT
TZOFFSETFROM:+0100
TZOFFSETTO:+0200
TZNAME:CEST
DTSTART:20260329T010000
END:DAYLIGHT
BEGIN:STANDARD
TZOFFSETFROM:+0200
TZOFFSETTO:+0100
TZNAME:CET
DTSTART:20261025T010000
END:STANDARD
BEGIN:DAYLIGHT
TZOFFSETFROM:+0100
TZOFFSETTO:+0200
TZNAME:CEST
DTSTART:20270328T010000
END:DAYLIGHT
BEGIN:STANDARD
TZOFFSETFROM:+0200
TZOFFSETTO:+0100
TZNAME:CET
DTSTART:20271031T010000
END:STANDARD
END:VTIMEZONE
BEGIN:VEVENT
DTSTART;VALUE=DATE:20260416
DTEND;VALUE=DATE:20260417
DTSTAMP:20260424T155137
CREATED:20260409T112027Z
LAST-MODIFIED:20260409T112027Z
UID:7571-1776297600-1776383999@zssvobody.cz
SUMMARY:Beseda v knihovně\, PT
DESCRIPTION:10:00 hod – Beseda v knihovně Havířov-Šumbark\, PT
URL:https://zssvobody.cz/event/beseda-v-knihovne-pt/
END:VEVENT
BEGIN:VEVENT
DTSTART;VALUE=DATE:20260416
DTEND;VALUE=DATE:20260417
DTSTAMP:20260424T155137
CREATED:20260409T112233Z
LAST-MODIFIED:20260409T112233Z
UID:7573-1776297600-1776383999@zssvobody.cz
SUMMARY:Sport do škol
DESCRIPTION:8:55 hod – Projekt MMH „Sport do škol“\, taekwondo\, p. Neoral\, Bošanský\,\, tř. I. C \n10:00 hod – Projekt MMH „Sport do škol“\, taekwondo\, p. Neoral\, Bošanský\,\, tř. I. B \n10:55 hod – Projekt MMH „Sport do škol“\, taekwondo\, p. Neoral\, Bošanský\,\, tř. I. A
URL:https://zssvobody.cz/event/sport-do-skol-18/
END:VEVENT
BEGIN:VEVENT
DTSTART;VALUE=DATE:20260416
DTEND;VALUE=DATE:20260417
DTSTAMP:20260424T155137
CREATED:20260409T112349Z
LAST-MODIFIED:20260409T112428Z
UID:7575-1776297600-1776383999@zssvobody.cz
SUMMARY:Plavání
DESCRIPTION:10:50-12:15 hod – Výuka plavání\, krytý bazén Havířov-Šumbark\, tř. III. A
URL:https://zssvobody.cz/event/plavani-17/
END:VEVENT
END:VCALENDAR