BEGIN:VCALENDAR
VERSION:2.0
PRODID:-//ZŠ Generála Svobody Havířov - ECPv6.15.20//NONSGML v1.0//EN
CALSCALE:GREGORIAN
METHOD:PUBLISH
X-WR-CALNAME:ZŠ Generála Svobody Havířov
X-ORIGINAL-URL:https://zssvobody.cz
X-WR-CALDESC:Akce na ZŠ Generála Svobody Havířov
REFRESH-INTERVAL;VALUE=DURATION:PT1H
X-Robots-Tag:noindex
X-PUBLISHED-TTL:PT1H
BEGIN:VTIMEZONE
TZID:Europe/Prague
BEGIN:DAYLIGHT
TZOFFSETFROM:+0100
TZOFFSETTO:+0200
TZNAME:CEST
DTSTART:20250330T010000
END:DAYLIGHT
BEGIN:STANDARD
TZOFFSETFROM:+0200
TZOFFSETTO:+0100
TZNAME:CET
DTSTART:20251026T010000
END:STANDARD
BEGIN:DAYLIGHT
TZOFFSETFROM:+0100
TZOFFSETTO:+0200
TZNAME:CEST
DTSTART:20260329T010000
END:DAYLIGHT
BEGIN:STANDARD
TZOFFSETFROM:+0200
TZOFFSETTO:+0100
TZNAME:CET
DTSTART:20261025T010000
END:STANDARD
BEGIN:DAYLIGHT
TZOFFSETFROM:+0100
TZOFFSETTO:+0200
TZNAME:CEST
DTSTART:20270328T010000
END:DAYLIGHT
BEGIN:STANDARD
TZOFFSETFROM:+0200
TZOFFSETTO:+0100
TZNAME:CET
DTSTART:20271031T010000
END:STANDARD
END:VTIMEZONE
BEGIN:VEVENT
DTSTART;VALUE=DATE:20260414
DTEND;VALUE=DATE:20260415
DTSTAMP:20260424T160149
CREATED:20260409T111219Z
LAST-MODIFIED:20260409T111219Z
UID:7561-1776124800-1776211199@zssvobody.cz
SUMMARY:Plavání
DESCRIPTION:8:00-8:45 hod – Výuka plavání\, krytý bazén Havířov-Šumbark\, tř. III. B\, III. C \n10:45-11:30 hod – Výuka plavání\, krytý bazén Havířov-Šumbark\, tř. II. A\, II. B
URL:https://zssvobody.cz/event/plavani-16/
END:VEVENT
BEGIN:VEVENT
DTSTART;VALUE=DATE:20260414
DTEND;VALUE=DATE:20260415
DTSTAMP:20260424T160149
CREATED:20260409T111345Z
LAST-MODIFIED:20260409T111345Z
UID:7563-1776124800-1776211199@zssvobody.cz
SUMMARY:Přijímací zkoušky\, 5. roč.
DESCRIPTION:Přijímací zkoušky na osmiletá gymnázia\, žáci 5. roč.\, 1. řádný termín
URL:https://zssvobody.cz/event/prijimaci-zkousky-5-roc/
END:VEVENT
BEGIN:VEVENT
DTSTART;VALUE=DATE:20260414
DTEND;VALUE=DATE:20260415
DTSTAMP:20260424T160149
CREATED:20260409T111450Z
LAST-MODIFIED:20260409T111450Z
UID:7565-1776124800-1776211199@zssvobody.cz
SUMMARY:Divadlo - PT\, I.A\, I.B
DESCRIPTION:10:00 hod – Divadelní představení „Maxipes Fík“\, KDPB Havířov\, PT\, I. A\, B\, C
URL:https://zssvobody.cz/event/divadlo-pt-i-a-i-b/
END:VEVENT
END:VCALENDAR