BEGIN:VCALENDAR
VERSION:2.0
PRODID:-//ZŠ Generála Svobody Havířov - ECPv6.15.20//NONSGML v1.0//EN
CALSCALE:GREGORIAN
METHOD:PUBLISH
X-ORIGINAL-URL:https://zssvobody.cz
X-WR-CALDESC:Akce na ZŠ Generála Svobody Havířov
REFRESH-INTERVAL;VALUE=DURATION:PT1H
X-Robots-Tag:noindex
X-PUBLISHED-TTL:PT1H
BEGIN:VTIMEZONE
TZID:Europe/Prague
BEGIN:DAYLIGHT
TZOFFSETFROM:+0100
TZOFFSETTO:+0200
TZNAME:CEST
DTSTART:20250330T010000
END:DAYLIGHT
BEGIN:STANDARD
TZOFFSETFROM:+0200
TZOFFSETTO:+0100
TZNAME:CET
DTSTART:20251026T010000
END:STANDARD
BEGIN:DAYLIGHT
TZOFFSETFROM:+0100
TZOFFSETTO:+0200
TZNAME:CEST
DTSTART:20260329T010000
END:DAYLIGHT
BEGIN:STANDARD
TZOFFSETFROM:+0200
TZOFFSETTO:+0100
TZNAME:CET
DTSTART:20261025T010000
END:STANDARD
BEGIN:DAYLIGHT
TZOFFSETFROM:+0100
TZOFFSETTO:+0200
TZNAME:CEST
DTSTART:20270328T010000
END:DAYLIGHT
BEGIN:STANDARD
TZOFFSETFROM:+0200
TZOFFSETTO:+0100
TZNAME:CET
DTSTART:20271031T010000
END:STANDARD
END:VTIMEZONE
BEGIN:VEVENT
DTSTART;VALUE=DATE:20260305
DTEND;VALUE=DATE:20260306
DTSTAMP:20260424T185511
CREATED:20260227T083856Z
LAST-MODIFIED:20260227T083856Z
UID:7068-1772668800-1772755199@zssvobody.cz
SUMMARY:Beseda s MP
DESCRIPTION:8:55 hod – Beseda s MP „Dopravní výchova“\, tř. III. C
URL:https://zssvobody.cz/event/beseda-s-mp-3/
END:VEVENT
BEGIN:VEVENT
DTSTART;VALUE=DATE:20260305
DTEND;VALUE=DATE:20260306
DTSTAMP:20260424T185511
CREATED:20260227T083956Z
LAST-MODIFIED:20260227T083956Z
UID:7070-1772668800-1772755199@zssvobody.cz
SUMMARY:Sport do škol
DESCRIPTION:8:55 hod – Projekt MMH „Sport do škol“\, stolní tenis\, p. Kaizar\, tř. I. C \n10:00 hod – Projekt MMH „Sport do škol“\, stolní tenis\, p. Kaizar\, tř. I. B \n10:55 hod – Projekt MMH „Sport do škol“\, stolní tenis\, p. Kaizar\, tř. I. A
URL:https://zssvobody.cz/event/sport-do-skol-13/
END:VEVENT
BEGIN:VEVENT
DTSTART;VALUE=DATE:20260305
DTEND;VALUE=DATE:20260306
DTSTAMP:20260424T185511
CREATED:20260227T084041Z
LAST-MODIFIED:20260227T084041Z
UID:7072-1772668800-1772755199@zssvobody.cz
SUMMARY:Plavání
DESCRIPTION:10:50-12:15 hod – Výuka plavání\, krytý bazén Havířov-Šumbark\, tř. III. A
URL:https://zssvobody.cz/event/plavani-7/
END:VEVENT
BEGIN:VEVENT
DTSTART;VALUE=DATE:20260305
DTEND;VALUE=DATE:20260306
DTSTAMP:20260424T185511
CREATED:20260227T084131Z
LAST-MODIFIED:20260227T084131Z
UID:7075-1772668800-1772755199@zssvobody.cz
SUMMARY:ŠK v recitaci - 1. stupeň
DESCRIPTION:13:00 hod – Školní kolo v recitaci\, vybraní žáci 1. st. tř. II. A
URL:https://zssvobody.cz/event/sk-v-recitaci-1-stupen/
END:VEVENT
END:VCALENDAR