BEGIN:VCALENDAR
VERSION:2.0
PRODID:-//ZŠ Generála Svobody Havířov - ECPv6.15.20//NONSGML v1.0//EN
CALSCALE:GREGORIAN
METHOD:PUBLISH
X-ORIGINAL-URL:https://zssvobody.cz
X-WR-CALDESC:Akce na ZŠ Generála Svobody Havířov
REFRESH-INTERVAL;VALUE=DURATION:PT1H
X-Robots-Tag:noindex
X-PUBLISHED-TTL:PT1H
BEGIN:VTIMEZONE
TZID:Europe/Prague
BEGIN:DAYLIGHT
TZOFFSETFROM:+0100
TZOFFSETTO:+0200
TZNAME:CEST
DTSTART:20250330T010000
END:DAYLIGHT
BEGIN:STANDARD
TZOFFSETFROM:+0200
TZOFFSETTO:+0100
TZNAME:CET
DTSTART:20251026T010000
END:STANDARD
BEGIN:DAYLIGHT
TZOFFSETFROM:+0100
TZOFFSETTO:+0200
TZNAME:CEST
DTSTART:20260329T010000
END:DAYLIGHT
BEGIN:STANDARD
TZOFFSETFROM:+0200
TZOFFSETTO:+0100
TZNAME:CET
DTSTART:20261025T010000
END:STANDARD
BEGIN:DAYLIGHT
TZOFFSETFROM:+0100
TZOFFSETTO:+0200
TZNAME:CEST
DTSTART:20270328T010000
END:DAYLIGHT
BEGIN:STANDARD
TZOFFSETFROM:+0200
TZOFFSETTO:+0100
TZNAME:CET
DTSTART:20271031T010000
END:STANDARD
END:VTIMEZONE
BEGIN:VEVENT
DTSTART;VALUE=DATE:20260303
DTEND;VALUE=DATE:20260304
DTSTAMP:20260424T190021
CREATED:20260227T083042Z
LAST-MODIFIED:20260227T083042Z
UID:7056-1772496000-1772582399@zssvobody.cz
SUMMARY:Plavání
DESCRIPTION:8:00-8:45 hod – Výuka plavání\, krytý bazén Havířov-Šumbark\, tř. III. B\, III. C \n10:45-11:30 hod – Výuka plavání\, krytý bazén Havířov-Šumbark\, tř. II. A\, II. B
URL:https://zssvobody.cz/event/plavani-6/
END:VEVENT
BEGIN:VEVENT
DTSTART;VALUE=DATE:20260303
DTEND;VALUE=DATE:20260304
DTSTAMP:20260424T190021
CREATED:20260227T083129Z
LAST-MODIFIED:20260227T083129Z
UID:7058-1772496000-1772582399@zssvobody.cz
SUMMARY:HLZŠ - MK ve futsalu
DESCRIPTION:7:30-13:30 hod – HLZŠ – MK ve futsalu\, MSH Slavia Havířov\, vybraní žáci 6.\,7.roč.
URL:https://zssvobody.cz/event/hlzs-mk-ve-futsalu/
END:VEVENT
BEGIN:VEVENT
DTSTART;VALUE=DATE:20260303
DTEND;VALUE=DATE:20260304
DTSTAMP:20260424T190021
CREATED:20260227T083315Z
LAST-MODIFIED:20260227T083315Z
UID:7060-1772496000-1772582399@zssvobody.cz
SUMMARY:Beseda v knihovně
DESCRIPTION:8:00-9:40 hod – Beseda v knihovně Havířov-Šumbark „Holocaust“\, tř. IX. B \n10:00-11:40 hod – Beseda v knihovně Havířov-Šumbark „Holocaust“\, tř. IX. A
URL:https://zssvobody.cz/event/beseda-v-knihovne/
END:VEVENT
BEGIN:VEVENT
DTSTART;VALUE=DATE:20260303
DTEND;VALUE=DATE:20260304
DTSTAMP:20260424T190021
CREATED:20260227T083545Z
LAST-MODIFIED:20260227T083545Z
UID:7062-1772496000-1772582399@zssvobody.cz
SUMMARY:Beseda s MP
DESCRIPTION:8:55-9:55 hod – Beseda s MP „Pes není hračka“\, tř. VI. A\, VI. B\, tělocvična \n8:55 hod – Beseda s MP „Dopravní výchova“ tř. II. A \n10:00 hod – Beseda s MP „Dopravní výchova“\, tř. III. A
URL:https://zssvobody.cz/event/beseda-s-mp/
END:VEVENT
BEGIN:VEVENT
DTSTART;VALUE=DATE:20260303
DTEND;VALUE=DATE:20260304
DTSTAMP:20260424T190021
CREATED:20260227T083651Z
LAST-MODIFIED:20260227T083651Z
UID:7064-1772496000-1772582399@zssvobody.cz
SUMMARY:ŠK v recitaci - 2. stupeň
DESCRIPTION:12:45 hod – ŠK v recitaci\, vybraní žáci 2. st.\, uč. jazyků a relaxace pav. C
URL:https://zssvobody.cz/event/sk-v-recitaci-2-stupen/
END:VEVENT
END:VCALENDAR