BEGIN:VCALENDAR
VERSION:2.0
PRODID:-//ZŠ Generála Svobody Havířov - ECPv6.15.20//NONSGML v1.0//EN
CALSCALE:GREGORIAN
METHOD:PUBLISH
X-WR-CALNAME:ZŠ Generála Svobody Havířov
X-ORIGINAL-URL:https://zssvobody.cz
X-WR-CALDESC:Akce na ZŠ Generála Svobody Havířov
REFRESH-INTERVAL;VALUE=DURATION:PT1H
X-Robots-Tag:noindex
X-PUBLISHED-TTL:PT1H
BEGIN:VTIMEZONE
TZID:Europe/Prague
BEGIN:DAYLIGHT
TZOFFSETFROM:+0100
TZOFFSETTO:+0200
TZNAME:CEST
DTSTART:20250330T010000
END:DAYLIGHT
BEGIN:STANDARD
TZOFFSETFROM:+0200
TZOFFSETTO:+0100
TZNAME:CET
DTSTART:20251026T010000
END:STANDARD
BEGIN:DAYLIGHT
TZOFFSETFROM:+0100
TZOFFSETTO:+0200
TZNAME:CEST
DTSTART:20260329T010000
END:DAYLIGHT
BEGIN:STANDARD
TZOFFSETFROM:+0200
TZOFFSETTO:+0100
TZNAME:CET
DTSTART:20261025T010000
END:STANDARD
BEGIN:DAYLIGHT
TZOFFSETFROM:+0100
TZOFFSETTO:+0200
TZNAME:CEST
DTSTART:20270328T010000
END:DAYLIGHT
BEGIN:STANDARD
TZOFFSETFROM:+0200
TZOFFSETTO:+0100
TZNAME:CET
DTSTART:20271031T010000
END:STANDARD
END:VTIMEZONE
BEGIN:VEVENT
DTSTART;VALUE=DATE:20260226
DTEND;VALUE=DATE:20260227
DTSTAMP:20260424T190246
CREATED:20260214T101548Z
LAST-MODIFIED:20260214T101548Z
UID:6967-1772064000-1772150399@zssvobody.cz
SUMMARY:Sport do škol
DESCRIPTION:8:55 hod – Projekt MMH „Sport do škol“\, sport. gymnastika\, p. Hýžová\, tř. I. C \n10:00 hod – Projekt MMH „Sport do škol“\, sport. gymnastika\, p. Hýžová\, tř. I. B \n10:55 hod – Projekt MMH „Sport do škol“\, sport. gymnastika\, p. Hýžová\, tř. I. A
URL:https://zssvobody.cz/event/sport-do-skol-12/
END:VEVENT
BEGIN:VEVENT
DTSTART;TZID=Europe/Prague:20260226T080000
DTEND;TZID=Europe/Prague:20260226T120000
DTSTAMP:20260424T190246
CREATED:20260214T101454Z
LAST-MODIFIED:20260214T101454Z
UID:6965-1772092800-1772107200@zssvobody.cz
SUMMARY:Fest Cup 2026
DESCRIPTION:Fest Cup 2026 – soutěž ŠD ve florbalu\, ZŠ Těrlicko\, žáci ŠD
URL:https://zssvobody.cz/event/fest-cup-2026/
END:VEVENT
BEGIN:VEVENT
DTSTART;TZID=Europe/Prague:20260226T105000
DTEND;TZID=Europe/Prague:20260226T121500
DTSTAMP:20260424T190246
CREATED:20260214T101623Z
LAST-MODIFIED:20260214T101623Z
UID:6969-1772103000-1772108100@zssvobody.cz
SUMMARY:Plavání
DESCRIPTION:Výuka plavání\, krytý bazén Havířov-Šumbark\, tř. III. A
URL:https://zssvobody.cz/event/plavani-5/
END:VEVENT
END:VCALENDAR