BEGIN:VCALENDAR
VERSION:2.0
PRODID:-//ZŠ Generála Svobody Havířov - ECPv6.15.20//NONSGML v1.0//EN
CALSCALE:GREGORIAN
METHOD:PUBLISH
X-WR-CALNAME:ZŠ Generála Svobody Havířov
X-ORIGINAL-URL:https://zssvobody.cz
X-WR-CALDESC:Akce na ZŠ Generála Svobody Havířov
REFRESH-INTERVAL;VALUE=DURATION:PT1H
X-Robots-Tag:noindex
X-PUBLISHED-TTL:PT1H
BEGIN:VTIMEZONE
TZID:Europe/Prague
BEGIN:DAYLIGHT
TZOFFSETFROM:+0100
TZOFFSETTO:+0200
TZNAME:CEST
DTSTART:20250330T010000
END:DAYLIGHT
BEGIN:STANDARD
TZOFFSETFROM:+0200
TZOFFSETTO:+0100
TZNAME:CET
DTSTART:20251026T010000
END:STANDARD
BEGIN:DAYLIGHT
TZOFFSETFROM:+0100
TZOFFSETTO:+0200
TZNAME:CEST
DTSTART:20260329T010000
END:DAYLIGHT
BEGIN:STANDARD
TZOFFSETFROM:+0200
TZOFFSETTO:+0100
TZNAME:CET
DTSTART:20261025T010000
END:STANDARD
BEGIN:DAYLIGHT
TZOFFSETFROM:+0100
TZOFFSETTO:+0200
TZNAME:CEST
DTSTART:20270328T010000
END:DAYLIGHT
BEGIN:STANDARD
TZOFFSETFROM:+0200
TZOFFSETTO:+0100
TZNAME:CET
DTSTART:20271031T010000
END:STANDARD
END:VTIMEZONE
BEGIN:VEVENT
DTSTART;VALUE=DATE:20260212
DTEND;VALUE=DATE:20260213
DTSTAMP:20260424T214914
CREATED:20260205T173424Z
LAST-MODIFIED:20260205T173424Z
UID:6843-1770854400-1770940799@zssvobody.cz
SUMMARY:Sport do škol
DESCRIPTION:8:55 hod – Projekt MMH „Sport do škol“\, sport. gymnastika\, p. Hýžová\, tř. I. C \n10:00 hod – Projekt MMH „Sport do škol“\, sport. gymnastika\, p. Hýžová\, tř. I. B \n10:55 hod – Projekt MMH „Sport do škol“\, sport. gymnastika\, p. Hýžová\, tř. I. A
URL:https://zssvobody.cz/event/sport-do-skol-11/
END:VEVENT
BEGIN:VEVENT
DTSTART;VALUE=DATE:20260212
DTEND;VALUE=DATE:20260213
DTSTAMP:20260424T214914
CREATED:20260205T173506Z
LAST-MODIFIED:20260205T173506Z
UID:6845-1770854400-1770940799@zssvobody.cz
SUMMARY:Valentýnský ples
DESCRIPTION:15:30 hod – „Valentýnský ples“ žáků 9. roč.
URL:https://zssvobody.cz/event/valentynsky-ples/
END:VEVENT
BEGIN:VEVENT
DTSTART;TZID=Europe/Prague:20260212T080000
DTEND;TZID=Europe/Prague:20260212T104500
DTSTAMP:20260424T214914
CREATED:20260205T173143Z
LAST-MODIFIED:20260205T173143Z
UID:6839-1770883200-1770893100@zssvobody.cz
SUMMARY:Testování KALIBRO
DESCRIPTION:8:00-10:45 hod – Testování „Kalibro“ z ČJ a M\, učebna INDOŠ pav. B a C\, tř. V. A\, V. B \n 
URL:https://zssvobody.cz/event/testovani-kalibro/
END:VEVENT
BEGIN:VEVENT
DTSTART;TZID=Europe/Prague:20260212T085500
DTEND;TZID=Europe/Prague:20260212T114000
DTSTAMP:20260424T214914
CREATED:20260205T173323Z
LAST-MODIFIED:20260205T173323Z
UID:6841-1770886500-1770896400@zssvobody.cz
SUMMARY:Testování žáků 9. roč.
DESCRIPTION:Testování z českého jazyka a matematiky\, žáci 9. roč.\, IX. A v VIII. A\, IX. B v VI. A\, přízemí pav. C po dobu testování uzavřeno\, výuka VIII. A v uč. Z\, výuka VI. A v uč. jazyků pav. C\, 2.p. \nVýuka 1. vyuč. hodiny dle rozvrhu\, výuka ukončena v 11\,40 hod.
URL:https://zssvobody.cz/event/testovani-zaku-9-roc/
END:VEVENT
END:VCALENDAR