BEGIN:VCALENDAR
VERSION:2.0
PRODID:-//ZŠ Generála Svobody Havířov - ECPv6.15.20//NONSGML v1.0//EN
CALSCALE:GREGORIAN
METHOD:PUBLISH
X-ORIGINAL-URL:https://zssvobody.cz
X-WR-CALDESC:Akce na ZŠ Generála Svobody Havířov
REFRESH-INTERVAL;VALUE=DURATION:PT1H
X-Robots-Tag:noindex
X-PUBLISHED-TTL:PT1H
BEGIN:VTIMEZONE
TZID:Europe/Prague
BEGIN:DAYLIGHT
TZOFFSETFROM:+0100
TZOFFSETTO:+0200
TZNAME:CEST
DTSTART:20250330T010000
END:DAYLIGHT
BEGIN:STANDARD
TZOFFSETFROM:+0200
TZOFFSETTO:+0100
TZNAME:CET
DTSTART:20251026T010000
END:STANDARD
BEGIN:DAYLIGHT
TZOFFSETFROM:+0100
TZOFFSETTO:+0200
TZNAME:CEST
DTSTART:20260329T010000
END:DAYLIGHT
BEGIN:STANDARD
TZOFFSETFROM:+0200
TZOFFSETTO:+0100
TZNAME:CET
DTSTART:20261025T010000
END:STANDARD
BEGIN:DAYLIGHT
TZOFFSETFROM:+0100
TZOFFSETTO:+0200
TZNAME:CEST
DTSTART:20270328T010000
END:DAYLIGHT
BEGIN:STANDARD
TZOFFSETFROM:+0200
TZOFFSETTO:+0100
TZNAME:CET
DTSTART:20271031T010000
END:STANDARD
END:VTIMEZONE
BEGIN:VEVENT
DTSTART;VALUE=DATE:20260114
DTEND;VALUE=DATE:20260115
DTSTAMP:20260425T002300
CREATED:20260108T181521Z
LAST-MODIFIED:20260108T181521Z
UID:6460-1768348800-1768435199@zssvobody.cz
SUMMARY:Preventivní programy
DESCRIPTION:8:00 – 9:40 hod – Preventivní program „Sex\, city\, vztahy“\, ZIP – p. Malina\, tř. IX. B \n10:00 – 11:40 hod – Preventivní program „Sex\, city\, vztahy“\, ZIP – p. Malina\, tř. IX. A
URL:https://zssvobody.cz/event/preventivni-programy-2/
END:VEVENT
BEGIN:VEVENT
DTSTART;TZID=Europe/Prague:20260114T093000
DTEND;TZID=Europe/Prague:20260114T103000
DTSTAMP:20260425T002300
CREATED:20260108T181614Z
LAST-MODIFIED:20260108T181614Z
UID:6462-1768383000-1768386600@zssvobody.cz
SUMMARY:OK Dějepisné olympiády
DESCRIPTION:OK Dějepisné olympiády\, SZŠ Karviná\, vybraný žák IX. B
URL:https://zssvobody.cz/event/ok-dejepisne-olympiady/
END:VEVENT
END:VCALENDAR