BEGIN:VCALENDAR
VERSION:2.0
PRODID:-//ZŠ Generála Svobody Havířov - ECPv6.15.20//NONSGML v1.0//EN
CALSCALE:GREGORIAN
METHOD:PUBLISH
X-ORIGINAL-URL:https://zssvobody.cz
X-WR-CALDESC:Akce na ZŠ Generála Svobody Havířov
REFRESH-INTERVAL;VALUE=DURATION:PT1H
X-Robots-Tag:noindex
X-PUBLISHED-TTL:PT1H
BEGIN:VTIMEZONE
TZID:Europe/Prague
BEGIN:DAYLIGHT
TZOFFSETFROM:+0100
TZOFFSETTO:+0200
TZNAME:CEST
DTSTART:20250330T010000
END:DAYLIGHT
BEGIN:STANDARD
TZOFFSETFROM:+0200
TZOFFSETTO:+0100
TZNAME:CET
DTSTART:20251026T010000
END:STANDARD
BEGIN:DAYLIGHT
TZOFFSETFROM:+0100
TZOFFSETTO:+0200
TZNAME:CEST
DTSTART:20260329T010000
END:DAYLIGHT
BEGIN:STANDARD
TZOFFSETFROM:+0200
TZOFFSETTO:+0100
TZNAME:CET
DTSTART:20261025T010000
END:STANDARD
BEGIN:DAYLIGHT
TZOFFSETFROM:+0100
TZOFFSETTO:+0200
TZNAME:CEST
DTSTART:20270328T010000
END:DAYLIGHT
BEGIN:STANDARD
TZOFFSETFROM:+0200
TZOFFSETTO:+0100
TZNAME:CET
DTSTART:20271031T010000
END:STANDARD
END:VTIMEZONE
BEGIN:VEVENT
DTSTART;VALUE=DATE:20260108
DTEND;VALUE=DATE:20260109
DTSTAMP:20260425T002249
CREATED:20251219T074351Z
LAST-MODIFIED:20251219T074351Z
UID:6359-1767830400-1767916799@zssvobody.cz
SUMMARY:Sport do škol
DESCRIPTION:8:55 hod – Projekt MMH „Sport do škol“\, parkour ADD Lead\, p. Gabryš\, tř. I. C \n10:00 hod – Projekt MMH „Sport do škol“\, parkour ADD Lead\, p. Gabryš\, tř. I. B \n10:55 hod – Projekt MMH „Sport do škol“\, parkour ADD Lead\, p. Gabryš\, tř. I. A
URL:https://zssvobody.cz/event/sport-do-skol-7/
END:VEVENT
BEGIN:VEVENT
DTSTART;VALUE=DATE:20260108
DTEND;VALUE=DATE:20260109
DTSTAMP:20260425T002249
CREATED:20251219T074554Z
LAST-MODIFIED:20251219T074554Z
UID:6363-1767830400-1767916799@zssvobody.cz
SUMMARY:Návštěva MŠ Moravská
DESCRIPTION:9:30 hod – Návštěva dětí MŠ Moravská\, vybraní žáci 9. roč.
URL:https://zssvobody.cz/event/navsteva-ms-moravska/
END:VEVENT
BEGIN:VEVENT
DTSTART;TZID=Europe/Prague:20260108T090000
DTEND;TZID=Europe/Prague:20260108T100000
DTSTAMP:20260425T002249
CREATED:20251219T074450Z
LAST-MODIFIED:20251219T074450Z
UID:6361-1767862800-1767866400@zssvobody.cz
SUMMARY:Dakol - 9. ročník
DESCRIPTION:Prezentace oborů SŠ\, SŠ Dakol\, Moravská Havířov\, žáci IX. A\, IX. B
URL:https://zssvobody.cz/event/dakol-9-rocnik/
END:VEVENT
BEGIN:VEVENT
DTSTART;TZID=Europe/Prague:20260108T105500
DTEND;TZID=Europe/Prague:20260108T114000
DTSTAMP:20260425T002249
CREATED:20251219T074712Z
LAST-MODIFIED:20251219T074712Z
UID:6365-1767869700-1767872400@zssvobody.cz
SUMMARY:LVK schůzka
DESCRIPTION:Úvodní schůzka ke konání LVK\, uč. PŘ\, vybraní žáci 6.-9. roč.
URL:https://zssvobody.cz/event/lvk-schuzka/
END:VEVENT
BEGIN:VEVENT
DTSTART;TZID=Europe/Prague:20260108T160000
DTEND;TZID=Europe/Prague:20260108T170000
DTSTAMP:20260425T002249
CREATED:20251219T074821Z
LAST-MODIFIED:20251219T074821Z
UID:6367-1767888000-1767891600@zssvobody.cz
SUMMARY:Informativní schůzky online
DESCRIPTION:
URL:https://zssvobody.cz/event/informativni-schuzky-online/
END:VEVENT
END:VCALENDAR